BEGIN:VCALENDAR
VERSION:2.0
PRODID:-//STEFANIA GIASOLLI - Terapista psicospirituale - ECPv6.10.0//NONSGML v1.0//EN
CALSCALE:GREGORIAN
METHOD:PUBLISH
X-WR-CALNAME:STEFANIA GIASOLLI - Terapista psicospirituale
X-ORIGINAL-URL:https://arpita.info
X-WR-CALDESC:Eventi per STEFANIA GIASOLLI - Terapista psicospirituale
REFRESH-INTERVAL;VALUE=DURATION:PT1H
X-Robots-Tag:noindex
X-PUBLISHED-TTL:PT1H
BEGIN:VTIMEZONE
TZID:Europe/Rome
BEGIN:DAYLIGHT
TZOFFSETFROM:+0100
TZOFFSETTO:+0200
TZNAME:CEST
DTSTART:20250330T010000
END:DAYLIGHT
BEGIN:STANDARD
TZOFFSETFROM:+0200
TZOFFSETTO:+0100
TZNAME:CET
DTSTART:20251026T010000
END:STANDARD
BEGIN:DAYLIGHT
TZOFFSETFROM:+0100
TZOFFSETTO:+0200
TZNAME:CEST
DTSTART:20260329T010000
END:DAYLIGHT
BEGIN:STANDARD
TZOFFSETFROM:+0200
TZOFFSETTO:+0100
TZNAME:CET
DTSTART:20261025T010000
END:STANDARD
END:VTIMEZONE
BEGIN:VEVENT
DTSTART;TZID=Europe/Rome:20260213T080000
DTEND;TZID=Europe/Rome:20260214T170000
DTSTAMP:20260420T124332
CREATED:20251227T100602Z
LAST-MODIFIED:20251227T100602Z
UID:4850-1770969600-1771088400@arpita.info
SUMMARY:BAMBINO INTERIORE 13-14/02
DESCRIPTION:RITORNO AL’INNOCENZA \nIl bambino Interiore è una parte di noi stessi che contiene memorie\, cariche emozionali\, credenze ed attitudini imparate nella prima infanzia\, ma porta con sé anche la nostra essenza\, quella originale\, la vitalità e l’innocenza che ci portiamo dentro. In questo gruppo contatteremo\, da uno spazio giocoso\, il nostro bambino interiore\, utilizzando varie tecniche come il respiro\, inquiry\, meditazioni etc.  per riconnetterci con noi stessi portando comprensione alle nostre tematiche.\nQuesto permetterà di approfondire tutto il lavoro di decondizionamento.
URL:https://arpita.info/event/bambino-interiore-13-14-02/
ATTACH;FMTTYPE=image/jpeg:https://arpita.info/wp-content/uploads/2015/06/Fotolia_4765971_S-1.jpg
END:VEVENT
BEGIN:VEVENT
DTSTART;TZID=Europe/Rome:20251207T080000
DTEND;TZID=Europe/Rome:20251208T170000
DTSTAMP:20260420T124332
CREATED:20241215T205841Z
LAST-MODIFIED:20241215T205841Z
UID:4842-1765094400-1765213200@arpita.info
SUMMARY:RISVEGLIO DEL CORPO - con Arpita Giasolli
DESCRIPTION:
URL:https://arpita.info/event/risveglio-del-corpo-con-arpita-giasolli/
ATTACH;FMTTYPE=image/jpeg:https://arpita.info/wp-content/uploads/2016/12/slide1-e1567607049562.jpg
END:VEVENT
BEGIN:VEVENT
DTSTART;TZID=Europe/Rome:20251031T080000
DTEND;TZID=Europe/Rome:20251102T170000
DTSTAMP:20260420T124332
CREATED:20241215T205617Z
LAST-MODIFIED:20241215T205617Z
UID:4839-1761897600-1762102800@arpita.info
SUMMARY:CHI SONO IO? con Arpita Giasolli
DESCRIPTION:La struttura di questo processo è stata creata negli anni sessanta da Charles Berner. E’ uno strumento pratico\, efficace e funzionale allo sperimentare nella realtà il principale metodo del maestro del XX sec. Ramana Maharshi. Il suo solo metodo era quello di dare l’istruzione ai ricercatori\, di chiedersi ripetutamente “Chi sono io?”. In Giappone questo sistema è chiamato “koan”\, una domanda\, o meglio una ricerca esistenziale\, la cui sola risposta è l’esperienza diretta di ciò che è. Lavorando con il Koan uno deve passare attraverso tutti gli strati di identificazione della personalità\, che ostacolano l’esperienza diretta del koan. Attraverseremo opinioni\, ideali\, condizionamenti\, identità – in una parola\, MENTE – per giungere a sperimentare il tempio del vero Sé\, oltre la personalità. E’ un metodo di profonda intensità ed entusiasmo. Durante il processo avverranno interviste individuali\,per supportare ognuno ad andare come una freccia all’essenziale\, usando diversi Koan come: Cos’è amore? Cos’è fiducia? Cos’è vita? ecc. Inoltre useremo vari metodi di meditazione attive e passive. Questo ritiro è in silenzio ed è per ricercatori che sentono la necessità di una ricerca spirituale più appassionata
URL:https://arpita.info/event/chi-sono-io-con-arpita-giasolli-2/
ATTACH;FMTTYPE=image/png:https://arpita.info/wp-content/uploads/2019/08/primal.png
END:VEVENT
END:VCALENDAR