BEGIN:VCALENDAR
VERSION:2.0
PRODID:-//STEFANIA GIASOLLI - Terapista psicospirituale - ECPv6.10.0//NONSGML v1.0//EN
CALSCALE:GREGORIAN
METHOD:PUBLISH
X-ORIGINAL-URL:https://arpita.info
X-WR-CALDESC:Eventi per STEFANIA GIASOLLI - Terapista psicospirituale
REFRESH-INTERVAL;VALUE=DURATION:PT1H
X-Robots-Tag:noindex
X-PUBLISHED-TTL:PT1H
BEGIN:VTIMEZONE
TZID:Europe/Rome
BEGIN:DAYLIGHT
TZOFFSETFROM:+0100
TZOFFSETTO:+0200
TZNAME:CEST
DTSTART:20260329T010000
END:DAYLIGHT
BEGIN:STANDARD
TZOFFSETFROM:+0200
TZOFFSETTO:+0100
TZNAME:CET
DTSTART:20261025T010000
END:STANDARD
END:VTIMEZONE
BEGIN:VEVENT
DTSTART;TZID=Europe/Rome:20261031T080000
DTEND;TZID=Europe/Rome:20261106T170000
DTSTAMP:20260421T045202
CREATED:20251227T103400Z
LAST-MODIFIED:20251227T103524Z
UID:4865-1793433600-1793984400@arpita.info
SUMMARY:SATORI 31/10-06/11
DESCRIPTION:Dall’istante del concepimento a quello della morte\, l’uomo è un’ indagine della verità! E se non andrai in cerca della verità non sarai un uomo. A quel punto avrai perso l’occasione che questa vita ti offre. Forse apparirai un uomo\, ma senza esserlo davvero. La tua umanità esisterà solo in apparenza\, non nel tuo cuore. E non lasciarti ingannare dalle apparenze\, poiché\, quando ti guarderai allo specchio potrai vedere di essere un uomo\, ma ciò non proverà nulla. Se la tua ricerca non si innalzerà ad altezze tali da trasformare tutta la tua energia in un’ indagine e se non diventi una pura e semplice ricerca\, non sarai un uomo.“La risposta è possibile\, ma non arriverà come una risposta\, bensì in quanto esperienza vissuta. La risposta sarà esistenziale\, non intellettuale. La domanda è intellettuale. Lascia perdere! Piuttosto sii!” Osho
URL:https://arpita.info/event/satori-31-10-06-11/
CATEGORIES:Zen
ATTACH;FMTTYPE=image/png:https://arpita.info/wp-content/uploads/2019/09/satori-e1568025135549.png
END:VEVENT
END:VCALENDAR